BEGIN:VCALENDAR
VERSION:2.0
PRODID:-//Gjenoppliving.no - ECPv6.15.20//NONSGML v1.0//EN
CALSCALE:GREGORIAN
METHOD:PUBLISH
X-WR-CALNAME:Gjenoppliving.no
X-ORIGINAL-URL:https://gjenoppliving.no
X-WR-CALDESC:Arrangement for Gjenoppliving.no
REFRESH-INTERVAL;VALUE=DURATION:PT1H
X-Robots-Tag:noindex
X-PUBLISHED-TTL:PT1H
BEGIN:VTIMEZONE
TZID:Europe/Oslo
BEGIN:DAYLIGHT
TZOFFSETFROM:+0100
TZOFFSETTO:+0200
TZNAME:CEST
DTSTART:20250330T010000
END:DAYLIGHT
BEGIN:STANDARD
TZOFFSETFROM:+0200
TZOFFSETTO:+0100
TZNAME:CET
DTSTART:20251026T010000
END:STANDARD
BEGIN:DAYLIGHT
TZOFFSETFROM:+0100
TZOFFSETTO:+0200
TZNAME:CEST
DTSTART:20260329T010000
END:DAYLIGHT
BEGIN:STANDARD
TZOFFSETFROM:+0200
TZOFFSETTO:+0100
TZNAME:CET
DTSTART:20261025T010000
END:STANDARD
BEGIN:DAYLIGHT
TZOFFSETFROM:+0100
TZOFFSETTO:+0200
TZNAME:CEST
DTSTART:20270328T010000
END:DAYLIGHT
BEGIN:STANDARD
TZOFFSETFROM:+0200
TZOFFSETTO:+0100
TZNAME:CET
DTSTART:20271031T010000
END:STANDARD
END:VTIMEZONE
BEGIN:VEVENT
DTSTART;TZID=Europe/Oslo:20260421T090000
DTEND;TZID=Europe/Oslo:20260422T153000
DTSTAMP:20260417T204804
CREATED:20260319T115127Z
LAST-MODIFIED:20260319T115127Z
UID:112992-1776762000-1776871800@gjenoppliving.no
SUMMARY:AHLR-instruktørkurs Oslo
DESCRIPTION:Instruktørkurs for deg som skal undervise i avansert HLR. Kurset går over to dager\, og er egnet for leger\, sykepleiere og andre som jobber med avansert HLR-behandling. Dag en er en gjennomgang av kurset og perfeksjonering av HLR-ferdigheter. Dag to underviser deltakerne hverandre under tilsyn og veiledning fra hovedinstruktøren. Deltakelse koster 6000\,-\nPrisen inkluderer kursbøker og lunsj. Overskuddet går tilbake til NRR for revidering og utvikling av kurs.
URL:https://gjenoppliving.no/event/ahlr-instruktorkurs-oslo/
LOCATION:Bjørndal Grendehus\, Meklenborgåsen 114\, Oslo
CATEGORIES:Kurs
ORGANIZER;CN="Norsk Selskap for Gjenoppliving (NSG)":MAILTO:post@gjenoppliving.no
END:VEVENT
BEGIN:VEVENT
DTSTART;TZID=Europe/Oslo:20260430T090000
DTEND;TZID=Europe/Oslo:20260430T140000
DTSTAMP:20260417T204804
CREATED:20260319T115426Z
LAST-MODIFIED:20260319T115426Z
UID:112994-1777539600-1777557600@gjenoppliving.no
SUMMARY:AHLR utøverkurs
DESCRIPTION:Kurs i avansert HLR (A-HLR). Kurset er egnet for leger\, sykepleiere og andre som jobber med avansert HLR-behandling.\nVi tilrettelegger for vikarer som trenger AHLR-kurs\, men som ikke får tilbus via HFene.\nDeltakelse koster 2500\,-\nPrisen inkluderer e-bok og lunsj. Overskuddet går tilbake til NRR for revidering og utvikling av kurs.
URL:https://gjenoppliving.no/event/ahlr-utoverkurs-2/
LOCATION:Bjørndal Grendehus\, Meklenborgåsen 114\, Oslo
CATEGORIES:Kurs
ORGANIZER;CN="Norsk Selskap for Gjenoppliving (NSG)":MAILTO:post@gjenoppliving.no
END:VEVENT
BEGIN:VEVENT
DTSTART;TZID=Europe/Oslo:20260512T090000
DTEND;TZID=Europe/Oslo:20260512T163000
DTSTAMP:20260417T204804
CREATED:20260319T115010Z
LAST-MODIFIED:20260319T115010Z
UID:112990-1778576400-1778603400@gjenoppliving.no
SUMMARY:HHLR-instruktørkurs Oslo\, mai
DESCRIPTION:Åttetimers kurs for deg som ønsker å bli instruktør i HHLR-kurset «HLR for helsepersonell». For å bli instruktør kreves det at du er helsepersonell. I løpet av kursdagen får du selv prøvd deg som instruktør for de andre kandidatene\, under kyndig veiledning fra hovedinstruktøren. Deltakeravgiften på kr. 4800\,- inkluderer kursmateriell og lunsj/pausemat.\nOverskuddet går tilbake til NRR for revidering og utarbeiding av nye kurs.\nFor påmelding www.nrr.org «Kursportalen» Velg «Meld deg på kurs» og velg HHLR-instruktørkurs i rullemenyen.
URL:https://gjenoppliving.no/event/hhlr-instruktorkurs-oslo-mai/
LOCATION:Bjørndal Grendehus\, Meklenborgåsen 114\, Oslo
CATEGORIES:Kurs
ORGANIZER;CN="Norsk Selskap for Gjenoppliving (NSG)":MAILTO:post@gjenoppliving.no
END:VEVENT
BEGIN:VEVENT
DTSTART;TZID=Europe/Oslo:20260521T090000
DTEND;TZID=Europe/Oslo:20260521T163000
DTSTAMP:20260417T204804
CREATED:20260319T114740Z
LAST-MODIFIED:20260319T114740Z
UID:112986-1779354000-1779381000@gjenoppliving.no
SUMMARY:DHLR-instruktørkurs\, Oslo mai
DESCRIPTION:Kurs for deg som ønsker å bli instruktør i hjerte-lungeredning med bruk av halvautomatisk hjertestarter (D-HLR) Det er en fordel (men ikke noe krav) om du har helsefaglig bakgrunn eller undervisningserfaring. I løpet av kursdagen får du prøvd deg som instruktør for de andre kandidatene\, under kyndig veiledning fra hovedinstruktøren. Deltakelse koster kr. 4800\,- Prisen inkluderer kursmateriell tilsendt i god tid før kurset og lunsj.\nOverskuddet går til NRR for revidering og utarbeiding av nye kurs.
URL:https://gjenoppliving.no/event/dhlr-instruktorkurs-oslo-mai/
LOCATION:Bjørndal Grendehus\, Meklenborgåsen 114\, Oslo
CATEGORIES:Kurs
ORGANIZER;CN="Norsk Selskap for Gjenoppliving (NSG)":MAILTO:post@gjenoppliving.no
END:VEVENT
BEGIN:VEVENT
DTSTART;TZID=Europe/Oslo:20260602T083000
DTEND;TZID=Europe/Oslo:20260602T170000
DTSTAMP:20260417T204804
CREATED:20260319T115712Z
LAST-MODIFIED:20260319T115830Z
UID:112996-1780389000-1780419600@gjenoppliving.no
SUMMARY:Nyfødt-resuscitering\, instruktørkurs
DESCRIPTION:Vi arrangerer heldagskurs for helsepersonell som jobber med nyfødte.\nKurset består av ferdighetstrening og scenarier.\nDeltakerne får innføring i instruktørrollen.\nDeltakelse koster 3700\,-
URL:https://gjenoppliving.no/event/nyfodt-resuscitering-instruktorkurs/
LOCATION:Stavanger Universitetssykehus
CATEGORIES:Kurs
ORGANIZER;CN="Norsk Selskap for Gjenoppliving (NSG)":MAILTO:post@gjenoppliving.no
END:VEVENT
END:VCALENDAR