BEGIN:VCALENDAR
VERSION:2.0
PRODID:-//Gjenoppliving.no - ECPv6.15.20//NONSGML v1.0//EN
CALSCALE:GREGORIAN
METHOD:PUBLISH
X-ORIGINAL-URL:https://gjenoppliving.no
X-WR-CALDESC:Arrangement for Gjenoppliving.no
REFRESH-INTERVAL;VALUE=DURATION:PT1H
X-Robots-Tag:noindex
X-PUBLISHED-TTL:PT1H
BEGIN:VTIMEZONE
TZID:Europe/Oslo
BEGIN:DAYLIGHT
TZOFFSETFROM:+0100
TZOFFSETTO:+0200
TZNAME:CEST
DTSTART:20250330T010000
END:DAYLIGHT
BEGIN:STANDARD
TZOFFSETFROM:+0200
TZOFFSETTO:+0100
TZNAME:CET
DTSTART:20251026T010000
END:STANDARD
BEGIN:DAYLIGHT
TZOFFSETFROM:+0100
TZOFFSETTO:+0200
TZNAME:CEST
DTSTART:20260329T010000
END:DAYLIGHT
BEGIN:STANDARD
TZOFFSETFROM:+0200
TZOFFSETTO:+0100
TZNAME:CET
DTSTART:20261025T010000
END:STANDARD
BEGIN:DAYLIGHT
TZOFFSETFROM:+0100
TZOFFSETTO:+0200
TZNAME:CEST
DTSTART:20270328T010000
END:DAYLIGHT
BEGIN:STANDARD
TZOFFSETFROM:+0200
TZOFFSETTO:+0100
TZNAME:CET
DTSTART:20271031T010000
END:STANDARD
END:VTIMEZONE
BEGIN:VEVENT
DTSTART;TZID=Europe/Oslo:20260120T090000
DTEND;TZID=Europe/Oslo:20260120T160000
DTSTAMP:20260425T213133
CREATED:20251126T124554Z
LAST-MODIFIED:20251126T124554Z
UID:109997-1768899600-1768924800@gjenoppliving.no
SUMMARY:DHLR-instruktørkurs\, Oslo
DESCRIPTION:Kurs for deg som ønsker å bli instruktør i Hjertelungeredning med bruk av halvautomatisk hjertestarter (D-HLR) Det er en fordel (men ikke noe krav) om du har helsefaglig bakgrunn eller undervisningserfaring. I løpet av kursdagen får du prøvd deg som instruktør for de andre kandidatene\, under kyndig veiledning fra hovedinstruktøren. Deltakelse koster kr. 4800\,- inkluderer kursmateriell tilsendt i god tid før kurset\, samt lunsj.\nOverskuddet går til NRR for revidering og utarbeiding av nye kurs.\nPåmelding: www.nrr.org «Finn kurs» Velg DHLR-instruktørkurs i rullemenyen.
URL:https://gjenoppliving.no/event/dhlr-instruktorkurs-oslo-3/
LOCATION:Bjørndal Grendehus\, Meklenborgåsen 114\, Oslo
CATEGORIES:Kurs
ORGANIZER;CN="Norsk Selskap for Gjenoppliving (NSG)":MAILTO:post@gjenoppliving.no
END:VEVENT
BEGIN:VEVENT
DTSTART;TZID=Europe/Oslo:20260122T090000
DTEND;TZID=Europe/Oslo:20260122T163000
DTSTAMP:20260425T213133
CREATED:20251126T125159Z
LAST-MODIFIED:20251126T125159Z
UID:110004-1769072400-1769099400@gjenoppliving.no
SUMMARY:HHLR-instruktørkurs\, Oslo
DESCRIPTION:Åttetimers kurs for deg som ønsker å bli instruktør i HHLR-kurset «HLR for helsepersonell». For å bli instruktør kreves det at du er helsepersonell. I løpet av kursdagen får du selv prøvd deg som instruktør for de andre kandidatene\, under kyndig veiledning fra hovedinstruktøren. Deltakeravgiften på kr. 4800\,- inkluderer kursmateriell og lunsj/pausemat.\nOverskuddet går tilbake til NRR for revidering og utarbeiding av nye kurs.\nFor påmelding www.nrr.org «Kursportalen» Velg «Meld deg på kurs» og velg HHLR-instruktørkurs i rullemenyen.
URL:https://gjenoppliving.no/event/hhlr-instruktorkurs-oslo-3/
LOCATION:Bjørndal Grendehus\, Meklenborgåsen 114\, Oslo
CATEGORIES:Kurs
ORGANIZER;CN="Norsk Selskap for Gjenoppliving (NSG)":MAILTO:post@gjenoppliving.no
END:VEVENT
BEGIN:VEVENT
DTSTART;TZID=Europe/Oslo:20260128T090000
DTEND;TZID=Europe/Oslo:20260128T153000
DTSTAMP:20260425T213133
CREATED:20251126T130855Z
LAST-MODIFIED:20251126T130855Z
UID:110014-1769590800-1769614200@gjenoppliving.no
SUMMARY:Fagdag/regodkjenning av NRR-instruktørstatus
DESCRIPTION:Heldags opplegg for NRR-godkjente instruktører som trenger en regodkjenning som instruktør. Dagen er lagt opp til faglig påfyll og siste nytt fra NRR. Diskusjonsfora med andre instruktører. Instruktørrollen (pedagogikk og veiledning). Fokus på de ulike kurskonseptene og gruppevis utsjekk og casetrening i hht instruktørstatus. Deltakelse koster kr 2500\,- Prisen inkluderer lisenskode og lunsj. For påmelding www.nrr.org «Finn kurs» Velg «NRR-godkjent instruktørsamling» i rullemenyen og meld deg på 🙂
URL:https://gjenoppliving.no/event/fagdag-regodkjenning-av-nrr-instruktorstatus/
LOCATION:Bjørndal Grendehus\, Meklenborgåsen 114\, Oslo
CATEGORIES:Kurs
ORGANIZER;CN="Norsk Selskap for Gjenoppliving (NSG)":MAILTO:post@gjenoppliving.no
END:VEVENT
END:VCALENDAR