BEGIN:VCALENDAR
VERSION:2.0
PRODID:-//Gjenoppliving.no - ECPv6.15.20//NONSGML v1.0//EN
CALSCALE:GREGORIAN
METHOD:PUBLISH
X-ORIGINAL-URL:https://gjenoppliving.no
X-WR-CALDESC:Arrangement for Gjenoppliving.no
REFRESH-INTERVAL;VALUE=DURATION:PT1H
X-Robots-Tag:noindex
X-PUBLISHED-TTL:PT1H
BEGIN:VTIMEZONE
TZID:Europe/Oslo
BEGIN:DAYLIGHT
TZOFFSETFROM:+0100
TZOFFSETTO:+0200
TZNAME:CEST
DTSTART:20250330T010000
END:DAYLIGHT
BEGIN:STANDARD
TZOFFSETFROM:+0200
TZOFFSETTO:+0100
TZNAME:CET
DTSTART:20251026T010000
END:STANDARD
BEGIN:DAYLIGHT
TZOFFSETFROM:+0100
TZOFFSETTO:+0200
TZNAME:CEST
DTSTART:20260329T010000
END:DAYLIGHT
BEGIN:STANDARD
TZOFFSETFROM:+0200
TZOFFSETTO:+0100
TZNAME:CET
DTSTART:20261025T010000
END:STANDARD
BEGIN:DAYLIGHT
TZOFFSETFROM:+0100
TZOFFSETTO:+0200
TZNAME:CEST
DTSTART:20270328T010000
END:DAYLIGHT
BEGIN:STANDARD
TZOFFSETFROM:+0200
TZOFFSETTO:+0100
TZNAME:CET
DTSTART:20271031T010000
END:STANDARD
END:VTIMEZONE
BEGIN:VEVENT
DTSTART;TZID=Europe/Oslo:20260217T090000
DTEND;TZID=Europe/Oslo:20260218T153000
DTSTAMP:20260425T195429
CREATED:20251029T154920Z
LAST-MODIFIED:20251029T154920Z
UID:109083-1771318800-1771428600@gjenoppliving.no
SUMMARY:AHLR-instruktørkurs for voksne
DESCRIPTION:Instruktørkurs for deg som skal undervise i avansert HLR. Kurset går over to dager\, og er egnet for leger\, sykepleiere og andre som jobber med avansert HLR-behandling. Dag en er en gjennomgang av kurset og perfeksjonering av HLR-ferdigheter. Dag to underviser deltakerne hverandre under tilsyn og veiledning fra hovedinstruktøren. Deltakelse koster 6000\,-\nPrisen inkluderer kursbøker og lunsj. Overskuddet går tilbake til NRR for revidering og utvikling av kurs.
URL:https://gjenoppliving.no/event/ahlr-instruktorkurs-for-voksne/
LOCATION:Bjørndal Grendehus\, Meklenborgåsen 114\, Oslo
CATEGORIES:Kurs
ORGANIZER;CN="Norsk Selskap for Gjenoppliving (NSG)":MAILTO:post@gjenoppliving.no
END:VEVENT
BEGIN:VEVENT
DTSTART;TZID=Europe/Oslo:20260219T090000
DTEND;TZID=Europe/Oslo:20260219T163000
DTSTAMP:20260425T195429
CREATED:20251126T130411Z
LAST-MODIFIED:20251126T130458Z
UID:110012-1771491600-1771518600@gjenoppliving.no
SUMMARY:HHLR-instruktørkurs\, Oslo
DESCRIPTION:Åttetimers kurs for deg som ønsker å bli instruktør i HHLR-kurset «HLR for helsepersonell». For å bli instruktør kreves det at du er helsepersonell. I løpet av kursdagen får du selv prøvd deg som instruktør for de andre kandidatene\, under kyndig veiledning fra hovedinstruktøren. Deltakeravgiften på kr. 4800\,- inkluderer kursmateriell og lunsj/pausemat.\nOverskuddet går tilbake til NRR for revidering og utarbeiding av nye kurs.\nFor påmelding www.nrr.org «Kursportalen» Velg «Meld deg på kurs» og velg HHLR-instruktørkurs i rullemenyen.
URL:https://gjenoppliving.no/event/hhlr-instruktorkurs-oslo-4/
LOCATION:Bjørndal Grendehus\, Meklenborgåsen 114\, Oslo
CATEGORIES:Kurs
ORGANIZER;CN="Norsk Selskap for Gjenoppliving (NSG)":MAILTO:post@gjenoppliving.no
END:VEVENT
BEGIN:VEVENT
DTSTART;TZID=Europe/Oslo:20260224T090000
DTEND;TZID=Europe/Oslo:20260224T153000
DTSTAMP:20260425T195429
CREATED:20251126T130957Z
LAST-MODIFIED:20251126T130957Z
UID:110016-1771923600-1771947000@gjenoppliving.no
SUMMARY:Fagdag/regodkjenning av NRR-instruktørstatus
DESCRIPTION:Heldags opplegg for NRR-godkjente instruktører som trenger en regodkjenning som instruktør. Dagen er lagt opp til faglig påfyll og siste nytt fra NRR. Diskusjonsfora med andre instruktører. Instruktørrollen (pedagogikk og veiledning). Fokus på de ulike kurskonseptene og gruppevis utsjekk og casetrening i hht instruktørstatus. Deltakelse koster kr 2500\,- Prisen inkluderer lisenskode og lunsj. For påmelding www.nrr.org «Finn kurs» Velg «NRR-godkjent instruktørsamling» i rullemenyen og meld deg på 🙂
URL:https://gjenoppliving.no/event/fagdag-regodkjenning-av-nrr-instruktorstatus-2/
LOCATION:Bjørndal Grendehus\, Meklenborgåsen 114\, Oslo
CATEGORIES:Kurs
ORGANIZER;CN="Norsk Selskap for Gjenoppliving (NSG)":MAILTO:post@gjenoppliving.no
END:VEVENT
BEGIN:VEVENT
DTSTART;TZID=Europe/Oslo:20260226T090000
DTEND;TZID=Europe/Oslo:20260226T160000
DTSTAMP:20260425T195429
CREATED:20251126T124728Z
LAST-MODIFIED:20251126T125316Z
UID:109999-1772096400-1772121600@gjenoppliving.no
SUMMARY:DHLR-instruktørkurs\, Oslo
DESCRIPTION:Kurs for deg som ønsker å bli instruktør i hjerte-lungeredning med bruk av halvautomatisk hjertestarter (D-HLR) Det er en fordel (men ikke noe krav) om du har helsefaglig bakgrunn eller undervisningserfaring. I løpet av kursdagen får du prøvd deg som instruktør for de andre kandidatene\, under kyndig veiledning fra hovedinstruktøren. Deltakelse koster kr. 4800\,- inkluderer kursmateriell tilsendt i forkant av kurset\, samt lunsj.\nOverskuddet går til NRR for revidering og utarbeiding av nye kurs.\nPåmelding: www.nrr.org «Finn kurs» Velg DHLR-instruktørkurs i rullemenyen.
URL:https://gjenoppliving.no/event/dhlr-instruktorkurs-oslo-4/
LOCATION:Bjørndal Grendehus\, Meklenborgåsen 114\, Oslo
CATEGORIES:Kurs
ORGANIZER;CN="Norsk Selskap for Gjenoppliving (NSG)":MAILTO:post@gjenoppliving.no
END:VEVENT
END:VCALENDAR