BEGIN:VCALENDAR
VERSION:2.0
PRODID:-//Gjenoppliving.no - ECPv6.15.20//NONSGML v1.0//EN
CALSCALE:GREGORIAN
METHOD:PUBLISH
X-ORIGINAL-URL:https://gjenoppliving.no
X-WR-CALDESC:Arrangement for Gjenoppliving.no
REFRESH-INTERVAL;VALUE=DURATION:PT1H
X-Robots-Tag:noindex
X-PUBLISHED-TTL:PT1H
BEGIN:VTIMEZONE
TZID:Europe/Oslo
BEGIN:DAYLIGHT
TZOFFSETFROM:+0100
TZOFFSETTO:+0200
TZNAME:CEST
DTSTART:20240331T010000
END:DAYLIGHT
BEGIN:STANDARD
TZOFFSETFROM:+0200
TZOFFSETTO:+0100
TZNAME:CET
DTSTART:20241027T010000
END:STANDARD
BEGIN:DAYLIGHT
TZOFFSETFROM:+0100
TZOFFSETTO:+0200
TZNAME:CEST
DTSTART:20250330T010000
END:DAYLIGHT
BEGIN:STANDARD
TZOFFSETFROM:+0200
TZOFFSETTO:+0100
TZNAME:CET
DTSTART:20251026T010000
END:STANDARD
BEGIN:DAYLIGHT
TZOFFSETFROM:+0100
TZOFFSETTO:+0200
TZNAME:CEST
DTSTART:20260329T010000
END:DAYLIGHT
BEGIN:STANDARD
TZOFFSETFROM:+0200
TZOFFSETTO:+0100
TZNAME:CET
DTSTART:20261025T010000
END:STANDARD
END:VTIMEZONE
BEGIN:VEVENT
DTSTART;TZID=Europe/Oslo:20251022T090000
DTEND;TZID=Europe/Oslo:20251022T153000
DTSTAMP:20260426T035937
CREATED:20250902T100424Z
LAST-MODIFIED:20250902T100424Z
UID:105864-1761123600-1761147000@gjenoppliving.no
SUMMARY:Fagdag for regodkjenning av instruktører
DESCRIPTION:Heldags opplegg for NRR-godkjente instruktører som trenger å regodkjenne instruktørstatusen. Dagen er lagt opp til faglig påfyll og siste nytt fra NRR. Diskusjonsfora med andre instruktører. Instruktørrollen (pedagogikk og veiledning). Fokus på de ulike kurskonseptene og gruppevis utsjekk og casetrening i hht instruktørstatus. Deltakelse koster kr 2500\,- Prisen inkluderer lisenskode og lunsj. For påmelding www.nrr.org «Finn kurs» Velg «NRR-godkjent instruktørsamling» i rullemenyen og meld deg på 🙂
URL:https://gjenoppliving.no/event/fagdag-for-regodkjenning-av-instruktorer/
LOCATION:Bjørndal Grendehus\, Meklenborgåsen 114\, Oslo
CATEGORIES:Kurs
ORGANIZER;CN="Norsk Selskap for Gjenoppliving (NSG)":MAILTO:post@gjenoppliving.no
END:VEVENT
END:VCALENDAR