BEGIN:VCALENDAR
VERSION:2.0
PRODID:-//Gjenoppliving.no - ECPv6.15.20//NONSGML v1.0//EN
CALSCALE:GREGORIAN
METHOD:PUBLISH
X-WR-CALNAME:Gjenoppliving.no
X-ORIGINAL-URL:https://gjenoppliving.no
X-WR-CALDESC:Arrangement for Gjenoppliving.no
REFRESH-INTERVAL;VALUE=DURATION:PT1H
X-Robots-Tag:noindex
X-PUBLISHED-TTL:PT1H
BEGIN:VTIMEZONE
TZID:Europe/Oslo
BEGIN:DAYLIGHT
TZOFFSETFROM:+0100
TZOFFSETTO:+0200
TZNAME:CEST
DTSTART:20240331T010000
END:DAYLIGHT
BEGIN:STANDARD
TZOFFSETFROM:+0200
TZOFFSETTO:+0100
TZNAME:CET
DTSTART:20241027T010000
END:STANDARD
BEGIN:DAYLIGHT
TZOFFSETFROM:+0100
TZOFFSETTO:+0200
TZNAME:CEST
DTSTART:20250330T010000
END:DAYLIGHT
BEGIN:STANDARD
TZOFFSETFROM:+0200
TZOFFSETTO:+0100
TZNAME:CET
DTSTART:20251026T010000
END:STANDARD
BEGIN:DAYLIGHT
TZOFFSETFROM:+0100
TZOFFSETTO:+0200
TZNAME:CEST
DTSTART:20260329T010000
END:DAYLIGHT
BEGIN:STANDARD
TZOFFSETFROM:+0200
TZOFFSETTO:+0100
TZNAME:CET
DTSTART:20261025T010000
END:STANDARD
END:VTIMEZONE
BEGIN:VEVENT
DTSTART;TZID=Europe/Oslo:20251028T090000
DTEND;TZID=Europe/Oslo:20251029T160000
DTSTAMP:20260425T152151
CREATED:20250902T100935Z
LAST-MODIFIED:20250902T100935Z
UID:105866-1761642000-1761753600@gjenoppliving.no
SUMMARY:AHLR-instruktørkurs
DESCRIPTION:To-dagers kurs for deg som ønsker å bli instruktør i AHLR-kurset «Avansert HLR». For å bli instruktør må du være helsepersonell med medikament-delegering. Dag en er en gjennomgang av kurset og perfeksjonering av ferdighetene. På dag to får du selv prøvd deg som instruktør for de andre kandidatene\, under kyndig veiledning fra hovedinstruktøren.\nDu må delta begge dager (28. og 29. oktober) for å bli sertifisert instruktør.\nDeltakeravgiften på kr. 6000\,- inkluderer kursmateriell og lunsj/pausemat.\nOverskuddet går tilbake til NRR for revidering og utarbeiding av nye kurs.\nFor påmelding www.nrr.org «Kursportalen» Velg «Meld deg på kurs» og velg AHLR-instruktørkurs i rullemenyen.
URL:https://gjenoppliving.no/event/ahlr-instruktorkurs-3/
LOCATION:Bjørndal Grendehus\, Meklenborgåsen 114\, Oslo
CATEGORIES:Kurs
ORGANIZER;CN="Norsk Selskap for Gjenoppliving (NSG)":MAILTO:post@gjenoppliving.no
END:VEVENT
END:VCALENDAR