BEGIN:VCALENDAR
VERSION:2.0
PRODID:-//Gjenoppliving.no - ECPv6.15.20//NONSGML v1.0//EN
CALSCALE:GREGORIAN
METHOD:PUBLISH
X-WR-CALNAME:Gjenoppliving.no
X-ORIGINAL-URL:https://gjenoppliving.no
X-WR-CALDESC:Arrangement for Gjenoppliving.no
REFRESH-INTERVAL;VALUE=DURATION:PT1H
X-Robots-Tag:noindex
X-PUBLISHED-TTL:PT1H
BEGIN:VTIMEZONE
TZID:Europe/Oslo
BEGIN:DAYLIGHT
TZOFFSETFROM:+0100
TZOFFSETTO:+0200
TZNAME:CEST
DTSTART:20240331T010000
END:DAYLIGHT
BEGIN:STANDARD
TZOFFSETFROM:+0200
TZOFFSETTO:+0100
TZNAME:CET
DTSTART:20241027T010000
END:STANDARD
BEGIN:DAYLIGHT
TZOFFSETFROM:+0100
TZOFFSETTO:+0200
TZNAME:CEST
DTSTART:20250330T010000
END:DAYLIGHT
BEGIN:STANDARD
TZOFFSETFROM:+0200
TZOFFSETTO:+0100
TZNAME:CET
DTSTART:20251026T010000
END:STANDARD
BEGIN:DAYLIGHT
TZOFFSETFROM:+0100
TZOFFSETTO:+0200
TZNAME:CEST
DTSTART:20260329T010000
END:DAYLIGHT
BEGIN:STANDARD
TZOFFSETFROM:+0200
TZOFFSETTO:+0100
TZNAME:CET
DTSTART:20261025T010000
END:STANDARD
END:VTIMEZONE
BEGIN:VEVENT
DTSTART;TZID=Europe/Oslo:20251202T090000
DTEND;TZID=Europe/Oslo:20251202T140000
DTSTAMP:20260422T191509
CREATED:20251029T153027Z
LAST-MODIFIED:20251029T153027Z
UID:109074-1764666000-1764684000@gjenoppliving.no
SUMMARY:AHLR barn kurs
DESCRIPTION:Kurs i avansert HLR-behandling av barn. Kurset er egnet for helsepersonell som jobber med barn. Deltakelse koster 2500\,- og du må være helsepersonell for å delta. Prisen inkluderer e-bok og lunsj. Overskuddet går tilbake til NRR for revidering av kurs.
URL:https://gjenoppliving.no/event/ahlr-barn-kurs/
LOCATION:Bjørndal Grendehus\, Meklenborgåsen 114\, Oslo
CATEGORIES:Kurs
ORGANIZER;CN="Norsk Selskap for Gjenoppliving (NSG)":MAILTO:post@gjenoppliving.no
END:VEVENT
END:VCALENDAR