BEGIN:VCALENDAR
VERSION:2.0
PRODID:-//Gjenoppliving.no - ECPv6.15.20//NONSGML v1.0//EN
CALSCALE:GREGORIAN
METHOD:PUBLISH
X-ORIGINAL-URL:https://gjenoppliving.no
X-WR-CALDESC:Arrangement for Gjenoppliving.no
REFRESH-INTERVAL;VALUE=DURATION:PT1H
X-Robots-Tag:noindex
X-PUBLISHED-TTL:PT1H
BEGIN:VTIMEZONE
TZID:Europe/Oslo
BEGIN:DAYLIGHT
TZOFFSETFROM:+0100
TZOFFSETTO:+0200
TZNAME:CEST
DTSTART:20240331T010000
END:DAYLIGHT
BEGIN:STANDARD
TZOFFSETFROM:+0200
TZOFFSETTO:+0100
TZNAME:CET
DTSTART:20241027T010000
END:STANDARD
BEGIN:DAYLIGHT
TZOFFSETFROM:+0100
TZOFFSETTO:+0200
TZNAME:CEST
DTSTART:20250330T010000
END:DAYLIGHT
BEGIN:STANDARD
TZOFFSETFROM:+0200
TZOFFSETTO:+0100
TZNAME:CET
DTSTART:20251026T010000
END:STANDARD
BEGIN:DAYLIGHT
TZOFFSETFROM:+0100
TZOFFSETTO:+0200
TZNAME:CEST
DTSTART:20260329T010000
END:DAYLIGHT
BEGIN:STANDARD
TZOFFSETFROM:+0200
TZOFFSETTO:+0100
TZNAME:CET
DTSTART:20261025T010000
END:STANDARD
END:VTIMEZONE
BEGIN:VEVENT
DTSTART;TZID=Europe/Oslo:20251204T090000
DTEND;TZID=Europe/Oslo:20251204T163000
DTSTAMP:20260426T002432
CREATED:20251029T153710Z
LAST-MODIFIED:20251029T153710Z
UID:109076-1764838800-1764865800@gjenoppliving.no
SUMMARY:HHLR-instruktørkurs med åpne plasser\, Oslo
DESCRIPTION:Instruktørkurs i HHLR (HLR for helsepersonell/HLR på sengepost). Du får først en gjennomgang av kurset før kandidatene underviser hverandre under tilsyn fra hovedinstruktøren.\nDeltakelse koster 4800\,- Prisen inkluderer kursbok og instruktørbok (tilsendt i forkant av kurset) og lunsj. Overskuddet går tilbake til NRR for revidering av kurs.
URL:https://gjenoppliving.no/event/hhlr-instruktorkurs-med-apne-plasser-oslo/
LOCATION:Bjørndal Grendehus\, Meklenborgåsen 114\, Oslo
CATEGORIES:Kurs
ORGANIZER;CN="Norsk Selskap for Gjenoppliving (NSG)":MAILTO:post@gjenoppliving.no
END:VEVENT
END:VCALENDAR