BEGIN:VCALENDAR
VERSION:2.0
PRODID:-//Gjenoppliving.no - ECPv6.15.20//NONSGML v1.0//EN
CALSCALE:GREGORIAN
METHOD:PUBLISH
X-WR-CALNAME:Gjenoppliving.no
X-ORIGINAL-URL:https://gjenoppliving.no
X-WR-CALDESC:Arrangement for Gjenoppliving.no
REFRESH-INTERVAL;VALUE=DURATION:PT1H
X-Robots-Tag:noindex
X-PUBLISHED-TTL:PT1H
BEGIN:VTIMEZONE
TZID:Europe/Oslo
BEGIN:DAYLIGHT
TZOFFSETFROM:+0100
TZOFFSETTO:+0200
TZNAME:CEST
DTSTART:20240331T010000
END:DAYLIGHT
BEGIN:STANDARD
TZOFFSETFROM:+0200
TZOFFSETTO:+0100
TZNAME:CET
DTSTART:20241027T010000
END:STANDARD
BEGIN:DAYLIGHT
TZOFFSETFROM:+0100
TZOFFSETTO:+0200
TZNAME:CEST
DTSTART:20250330T010000
END:DAYLIGHT
BEGIN:STANDARD
TZOFFSETFROM:+0200
TZOFFSETTO:+0100
TZNAME:CET
DTSTART:20251026T010000
END:STANDARD
BEGIN:DAYLIGHT
TZOFFSETFROM:+0100
TZOFFSETTO:+0200
TZNAME:CEST
DTSTART:20260329T010000
END:DAYLIGHT
BEGIN:STANDARD
TZOFFSETFROM:+0200
TZOFFSETTO:+0100
TZNAME:CET
DTSTART:20261025T010000
END:STANDARD
END:VTIMEZONE
BEGIN:VEVENT
DTSTART;TZID=Europe/Oslo:20251209T090000
DTEND;TZID=Europe/Oslo:20251209T153000
DTSTAMP:20260426T002944
CREATED:20251029T154339Z
LAST-MODIFIED:20251029T154339Z
UID:109078-1765270800-1765294200@gjenoppliving.no
SUMMARY:Fagdag/regodkjenning av instruktører
DESCRIPTION:Fagdag for deg som trenger regodkjenning som NRR-instruktør.\nFagdagen inneholder nyheter fra NRR\, diskusjonsfora\, erfaringsutveksling\, pedagogikk\, HLR-utsjekk\, gjennomgang av NRR-portal\, og case-trening. Deltakelse koster 2200\,- Prisen inkluderer lunsj. Overskuddet går tilbake til NRR for revidering av kurs.
URL:https://gjenoppliving.no/event/fagdag-regodkjenning-av-instruktorer/
LOCATION:Bjørndal Grendehus\, Meklenborgåsen 114\, Oslo
CATEGORIES:Kurs
ORGANIZER;CN="Norsk Selskap for Gjenoppliving (NSG)":MAILTO:post@gjenoppliving.no
END:VEVENT
END:VCALENDAR