BEGIN:VCALENDAR
VERSION:2.0
PRODID:-//Gjenoppliving.no - ECPv6.15.20//NONSGML v1.0//EN
CALSCALE:GREGORIAN
METHOD:PUBLISH
X-WR-CALNAME:Gjenoppliving.no
X-ORIGINAL-URL:https://gjenoppliving.no
X-WR-CALDESC:Arrangement for Gjenoppliving.no
REFRESH-INTERVAL;VALUE=DURATION:PT1H
X-Robots-Tag:noindex
X-PUBLISHED-TTL:PT1H
BEGIN:VTIMEZONE
TZID:Europe/Oslo
BEGIN:DAYLIGHT
TZOFFSETFROM:+0100
TZOFFSETTO:+0200
TZNAME:CEST
DTSTART:20250330T010000
END:DAYLIGHT
BEGIN:STANDARD
TZOFFSETFROM:+0200
TZOFFSETTO:+0100
TZNAME:CET
DTSTART:20251026T010000
END:STANDARD
BEGIN:DAYLIGHT
TZOFFSETFROM:+0100
TZOFFSETTO:+0200
TZNAME:CEST
DTSTART:20260329T010000
END:DAYLIGHT
BEGIN:STANDARD
TZOFFSETFROM:+0200
TZOFFSETTO:+0100
TZNAME:CET
DTSTART:20261025T010000
END:STANDARD
BEGIN:DAYLIGHT
TZOFFSETFROM:+0100
TZOFFSETTO:+0200
TZNAME:CEST
DTSTART:20270328T010000
END:DAYLIGHT
BEGIN:STANDARD
TZOFFSETFROM:+0200
TZOFFSETTO:+0100
TZNAME:CET
DTSTART:20271031T010000
END:STANDARD
END:VTIMEZONE
BEGIN:VEVENT
DTSTART;TZID=Europe/Oslo:20260324T090000
DTEND;TZID=Europe/Oslo:20260324T153000
DTSTAMP:20260422T190948
CREATED:20251126T131049Z
LAST-MODIFIED:20251126T131049Z
UID:110018-1774342800-1774366200@gjenoppliving.no
SUMMARY:Fagdag/regodkjenning av NRR-instruktørstatus
DESCRIPTION:Heldags opplegg for NRR-godkjente instruktører som trenger en regodkjenning som instruktør. Dagen er lagt opp til faglig påfyll og siste nytt fra NRR. Diskusjonsfora med andre instruktører. Instruktørrollen (pedagogikk og veiledning). Fokus på de ulike kurskonseptene og gruppevis utsjekk og casetrening i hht instruktørstatus. Deltakelse koster kr 2500\,- Prisen inkluderer lisenskode og lunsj. For påmelding www.nrr.org «Finn kurs» Velg «NRR-godkjent instruktørsamling» i rullemenyen og meld deg på 🙂
URL:https://gjenoppliving.no/event/fagdag-regodkjenning-av-nrr-instruktorstatus-3/
CATEGORIES:Kurs
END:VEVENT
END:VCALENDAR